BEGIN:VCALENDAR
VERSION:2.0
PRODID:-//Plone.org//NONSGML plone.app.event//EN
X-WR-TIMEZONE:Europe/Madrid
BEGIN:VEVENT
SUMMARY:Event sample
DTSTART;TZID=Europe/Madrid:20180326T080000
DTEND;TZID=Europe/Madrid:20190120T070000
DTSTAMP:20260424T231144Z
UID:3dfc2109207b42e68796f2988dff23a8@siscom.upc.edu
CONTACT:Event manager\, adreca@noreply.com
CREATED:20180326T064752Z
LAST-MODIFIED:20180326T064753Z
LOCATION:Event place
URL:https://siscom.upc.edu/en/events/event-sample
END:VEVENT
BEGIN:VTIMEZONE
TZID:Europe/Madrid
X-LIC-LOCATION:Europe/Madrid
BEGIN:DAYLIGHT
DTSTART:20180325T030000
TZNAME:CEST
TZOFFSETFROM:+0100
TZOFFSETTO:+0200
END:DAYLIGHT
BEGIN:STANDARD
DTSTART:20181028T020000
TZNAME:CET
TZOFFSETFROM:+0200
TZOFFSETTO:+0100
END:STANDARD
END:VTIMEZONE
END:VCALENDAR
